BEGIN:VCALENDAR
VERSION:2.0
PRODID:icalendar-ruby
CALSCALE:GREGORIAN
METHOD:PUBLISH
BEGIN:VEVENT
DTSTAMP:20260421T045515Z
UID:48-393988@trinityonline.ca
DTSTART:20250111T130000Z
DTEND:20250111T170000Z
CLASS:PUBLIC
CREATED:20241231T110309
DESCRIPTION:January 11 - Genesis 30:25–31:55 \nJanuary 12 - Genesis 32:1
 –35:27\nJanuary 13 - Genesis 36:1-19\; 1 Chronicles 1:35-37\; Genesis 3
 6:20-30\; 1 Chronicles 1:38-42\; Genesis 36:31-43\; 1 Chronicles 1:43–2:
 2 \nJanuary 14 - Genesis 37:1–38:30\; 1 Chronicles 2:3-6\, 8\; Genesis
  39:1-23 \nJanuary 15 - Genesis 40:1-23\; Genesis 35:28-29\; Genesis 41:1
 -57 \nJanuary 16 - Genesis 42:1–45:15\nJanuary 17 - Genesis 45:16–47:
 27
LAST-MODIFIED:20241231T110309
LOCATION:
SUMMARY:The One Year Project 
URL;VALUE=URI:https://www.trinityonline.ca/events/the-one-year-project--48/
 2025-01-11
ATTACH;FILENAME=The-One-Year-Project.png;FMTTYPE=image/png:https://dq5pwpg1
 q8ru0.cloudfront.net/2024/12/31/15/30/39/97453258-5c00-4a50-bd7d-cd9f7d985
 d65/The-One-Year-Project.png
END:VEVENT
END:VCALENDAR
